BEGIN:VCALENDAR
VERSION:2.0
PRODID:-//eventon.com NONSGML v1.0//EN
CALSCALE:GREGORIAN
METHOD:PUBLISH
BEGIN:VEVENT
UID:69ed1280943e1
DTSTAMP:20260425T191408Z
DTSTART:20230726T173000Z
DTEND:20230726T215000Z
LOCATION:Občanská plovárna U Plovárny 1\,  Praha 1
SUMMARY:Vašo Patejdl & Band
DESCRIPTION:Koncert je uspořádaný na sezení. Vstupenky jsou v prodeji n
 a pragueopenair.cz a goout.cz v těchto kategoriích: PLATINUM &#8211; 890 
 Kč GOLD &#8211; 790 Kč SILVER &#8211; 690 Kč Line up: 17:00 otevíráme 
 19:30 Elly 20:30 Vašo Patejdl &#038; Band Vašo Patejdl jeden z nejvýznam
 nějších představitelů československé pop-rockové scény od osmdesá
 tých[..]\nhttps://www.pragueopenair.cz/events/vaso-patejdl/
URL:https://www.pragueopenair.cz/events/vaso-patejdl/
END:VEVENT
END:VCALENDAR