BEGIN:VCALENDAR
VERSION:2.0
PRODID:-//eventon.com NONSGML v1.0//EN
CALSCALE:GREGORIAN
METHOD:PUBLISH
BEGIN:VEVENT
UID:69ed116fafe38
DTSTAMP:20260425T190935Z
DTSTART:20230829T174500Z
DTEND:20230829T215000Z
LOCATION:Ledárny Braník Ledařská 8\,  147 00 Praha 4
SUMMARY:Iné Kafe
DESCRIPTION:Vstupenky v prodeji za 490 Kč na pragueopenair.cz a goout.cz. 
 Vstupenky na místě za 550 Kč. Slovenská kapela Iné Kafe vydala na konc
 i loňského roku album MADE IN CZECHOSLOVAKIA plné skvělých coverů tě
 ch největších pecek československé hudební tvorby\,  které mají v p
 unkrockovém hávu úplně nový rozměr. Přijďte se přesvědčit a[..]\
 nhttps://www.pragueopenair.cz/events/ine-kafe/
URL:https://www.pragueopenair.cz/events/ine-kafe/
END:VEVENT
END:VCALENDAR