BEGIN:VCALENDAR
VERSION:2.0
PRODID:-//eventon.com NONSGML v1.0//EN
CALSCALE:GREGORIAN
METHOD:PUBLISH
BEGIN:VEVENT
UID:69e5dd23a20a2
DTSTAMP:20260420T080035Z
DTSTART:20230725T161500Z
DTEND:20230725T215000Z
LOCATION:Občanská plovárna U Plovárny 1\,  Praha 1
SUMMARY:Gaia Mesiah + Five O'clock Tea + Eva Vargo
DESCRIPTION:Vstupenky v prodeji za 490 Kč na pragueopenair.cz a goout.cz. 
 Vstupenky na místě za 550 Kč. Divoká rocková čtveřice Gaia Mesiah m
  venku nové album a tak je jejich letní koncert na Občanské plovárně
  skvělou příležitostí přijít si nové věci poslechnout naživo! Gai
 a Mesiah to umí na pódiu pořádně rozjet\, [..]\nhttps://www.pragueopen
 air.cz/events/gaia-mesiah/
URL:https://www.pragueopenair.cz/events/gaia-mesiah/
END:VEVENT
END:VCALENDAR