BEGIN:VCALENDAR
VERSION:2.0
PRODID:-//eventon.com NONSGML v1.0//EN
CALSCALE:GREGORIAN
METHOD:PUBLISH
BEGIN:VEVENT
UID:69ecea14c2c11
DTSTAMP:20260425T162140Z
DTSTART:20230905T174500Z
DTEND:20230905T215000Z
LOCATION:Ledárny Braník Ledařská 8\,  147 00 Praha 4
SUMMARY:The Cinematic Orchestra
DESCRIPTION:Vstupenky v prodeji ve třech cenových vlnách: 990 Kč\,  109
 0 Kč a 1220 Kč + poplatky od pátku 19. května na pragueopenair.cz a goo
 ut.cz Britská ikona nu-jazzové a elektronické hudby The Cinematic Orches
 tra se po dlouhých osmi letech vrací do Prahy. Tentokrát vystoupí 5. z
 ří pod širým nebem v Ledárnách[..]\nhttps://www.pragueopenair.cz/eve
 nts/the-cinematic-orchestra/
URL:https://www.pragueopenair.cz/events/the-cinematic-orchestra/
END:VEVENT
END:VCALENDAR