BEGIN:VCALENDAR
VERSION:2.0
PRODID:-//eventon.com NONSGML v1.0//EN
CALSCALE:GREGORIAN
METHOD:PUBLISH
BEGIN:VEVENT
UID:69ea6fea2592f
DTSTAMP:20260423T191554Z
DTSTART:20240817T174500Z
DTEND:20240817T215900Z
LOCATION:Ledárny Braník Ledařská 8\,  147 00 Praha 4
SUMMARY:Marpo & TroubleGang
DESCRIPTION:Vstupenky jsou v prodeji na pragueopenair.cz a na goout.cz za 5
 90 Kč. Vstupné na místě 650 Kč. Marpo &amp; TroubleGang vystoupí v r
 mci Prague Open Air v Ledárnách Braník! Nenechte si ujít. Děti do 10 
 let včetně mají vstup volný. Koncert je uspořádaný na stání. ﻿\n
 https://www.pragueopenair.cz/events/marpo-troublegang/
URL:https://www.pragueopenair.cz/events/marpo-troublegang/
END:VEVENT
END:VCALENDAR